BEGIN:VCALENDAR
VERSION:2.0
PRODID:-//Poesiesalon Antik und Feder - ECPv6.15.20//NONSGML v1.0//EN
CALSCALE:GREGORIAN
METHOD:PUBLISH
X-WR-CALNAME:Poesiesalon Antik und Feder
X-ORIGINAL-URL:https://antik-und-feder.com
X-WR-CALDESC:Veranstaltungen für Poesiesalon Antik und Feder
REFRESH-INTERVAL;VALUE=DURATION:PT1H
X-Robots-Tag:noindex
X-PUBLISHED-TTL:PT1H
BEGIN:VTIMEZONE
TZID:Europe/Berlin
BEGIN:DAYLIGHT
TZOFFSETFROM:+0100
TZOFFSETTO:+0200
TZNAME:CEST
DTSTART:20240331T010000
END:DAYLIGHT
BEGIN:STANDARD
TZOFFSETFROM:+0200
TZOFFSETTO:+0100
TZNAME:CET
DTSTART:20241027T010000
END:STANDARD
BEGIN:DAYLIGHT
TZOFFSETFROM:+0100
TZOFFSETTO:+0200
TZNAME:CEST
DTSTART:20250330T010000
END:DAYLIGHT
BEGIN:STANDARD
TZOFFSETFROM:+0200
TZOFFSETTO:+0100
TZNAME:CET
DTSTART:20251026T010000
END:STANDARD
BEGIN:DAYLIGHT
TZOFFSETFROM:+0100
TZOFFSETTO:+0200
TZNAME:CEST
DTSTART:20260329T010000
END:DAYLIGHT
BEGIN:STANDARD
TZOFFSETFROM:+0200
TZOFFSETTO:+0100
TZNAME:CET
DTSTART:20261025T010000
END:STANDARD
END:VTIMEZONE
BEGIN:VEVENT
DTSTART;TZID=Europe/Berlin:20250124T190000
DTEND;TZID=Europe/Berlin:20250124T210000
DTSTAMP:20260423T212324
CREATED:20241230T193141Z
LAST-MODIFIED:20250123T171437Z
UID:224-1737745200-1737752400@antik-und-feder.com
SUMMARY:Krimi-Lesung mit Ellys Meller
DESCRIPTION:Ellys Meller\, Jahrgang 1960\, arbeitet im Öffentlichen Dienst. Sie lebt in einem Stadtteil am Rande Berlins. Ihre eigentliche Heimat ist und bleibt das beschauliche Quedlinburg\, Handlungsort ihrer vierteiligen Apotheken-Krimi-Reihe
URL:https://antik-und-feder.com/veranstaltungen/krimi-lesung-mit-ellys-meller/
LOCATION:Poesiesalon Antik und Feder\, Pölle 27\, Quedlinburg\, Sachsen-Anhalt\, 06484\, Germany
CATEGORIES:Lesung,Veranstaltungen
ATTACH;FMTTYPE=image/jpeg:https://antik-und-feder.com/wp-content/uploads/2024/12/WhatsApp-Image-2025-01-20-at-19.06.34.jpeg
ORGANIZER;CN="Antik und Feder":MAILTO:kontakt@antik-und-feder.com
END:VEVENT
END:VCALENDAR